BEGIN:VCALENDAR
VERSION:2.0
PRODID:-//wp-events-plugin.com//7.2.3.1//EN
TZID:Europe/Paris
X-WR-TIMEZONE:Europe/Paris
BEGIN:VEVENT
UID:41@tiralarc17.fr
DTSTART;TZID=Europe/Paris;VALUE=DATE:20230611
DTEND;TZID=Europe/Paris;VALUE=DATE:20230612
DTSTAMP:20230511T135506Z
URL:https://www.tiralarc17.fr/evenements/surgeres-2/
SUMMARY:Surgères
DESCRIPTION:\n\n\nMandat\n\n\n\n\n
ATTACH;FMTTYPE=image/jpeg:https://www.tiralarc17.fr/wp-content/uploads/202
 3/05/Mandat_TAE-CD17-surgeres-11_06_23-1.jpg
CATEGORIES:TAE int &amp; Nat.
LOCATION:Surgères (stade)\, rue Ronsard\, Surgères\, 17700\, France
GEO:46.110402;-0.74688
X-APPLE-STRUCTURED-LOCATION;VALUE=URI;X-ADDRESS=rue Ronsard\, Surgères\, 1
 7700\, France;X-APPLE-RADIUS=100;X-TITLE=Surgères (stade):geo:46.110402,-
 0.74688
END:VEVENT
BEGIN:VTIMEZONE
TZID:Europe/Paris
X-LIC-LOCATION:Europe/Paris
BEGIN:DAYLIGHT
DTSTART:20230326T030000
TZOFFSETFROM:+0100
TZOFFSETTO:+0200
TZNAME:CEST
END:DAYLIGHT
END:VTIMEZONE
END:VCALENDAR