BEGIN:VCALENDAR
VERSION:2.0
PRODID:-//wp-events-plugin.com//7.2.3.1//EN
TZID:Europe/Paris
X-WR-TIMEZONE:Europe/Paris
BEGIN:VEVENT
UID:53@tiralarc17.fr
DTSTART;TZID=Europe/Paris;VALUE=DATE:20231104
DTEND;TZID=Europe/Paris;VALUE=DATE:20231105
DTSTAMP:20231105T173603Z
URL:https://www.tiralarc17.fr/evenements/st-martin-de-re-4/
SUMMARY:St Martin de Ré
DESCRIPTION:MANDAT\nRESULTATS
ATTACH;FMTTYPE=image/jpeg:https://www.tiralarc17.fr/wp-content/uploads/202
 3/10/MANDAT-salle-J-re-4_11_23-1.jpg
CATEGORIES:Tir 18m jeunes
LOCATION:St Martin de Ré\, avenue de Philippsburg\, St Martin de Ré\, 174
 10\, France
GEO:46.19337;-1.355962
X-APPLE-STRUCTURED-LOCATION;VALUE=URI;X-ADDRESS=avenue de Philippsburg\, St
  Martin de Ré\, 17410\, France;X-APPLE-RADIUS=100;X-TITLE=St Martin de R
 é:geo:46.19337,-1.355962
END:VEVENT
BEGIN:VTIMEZONE
TZID:Europe/Paris
X-LIC-LOCATION:Europe/Paris
BEGIN:STANDARD
DTSTART:20231029T020000
TZOFFSETFROM:+0200
TZOFFSETTO:+0100
TZNAME:CET
END:STANDARD
END:VTIMEZONE
END:VCALENDAR