BEGIN:VCALENDAR
VERSION:2.0
PRODID:-//wp-events-plugin.com//7.2.3.1//EN
TZID:Europe/Paris
X-WR-TIMEZONE:Europe/Paris
BEGIN:VEVENT
UID:147@tiralarc17.fr
DTSTART;TZID=Europe/Paris;VALUE=DATE:20260419
DTEND;TZID=Europe/Paris;VALUE=DATE:20260420
DTSTAMP:20260228T153649Z
URL:https://www.tiralarc17.fr/evenements/st-martin-de-re-13/
SUMMARY:St Martin de Ré
DESCRIPTION:MANDAT
ATTACH;FMTTYPE=image/jpeg:https://www.tiralarc17.fr/wp-content/uploads/202
 6/02/MANDAT-nature-CD-SMR-19_04_26-1.jpg
CATEGORIES:Nature
LOCATION:St Martin de Ré\, Le vert clos\, St Martin de Ré\, France
GEO:46.203588;-1.379804
X-APPLE-STRUCTURED-LOCATION;VALUE=URI;X-ADDRESS=Le vert clos\, St Martin de
  Ré\, France;X-APPLE-RADIUS=100;X-TITLE=St Martin de Ré:geo:46.203588,-1
 .379804
END:VEVENT
BEGIN:VTIMEZONE
TZID:Europe/Paris
X-LIC-LOCATION:Europe/Paris
BEGIN:DAYLIGHT
DTSTART:20260329T030000
TZOFFSETFROM:+0100
TZOFFSETTO:+0200
TZNAME:CEST
END:DAYLIGHT
END:VTIMEZONE
END:VCALENDAR