BEGIN:VCALENDAR
VERSION:2.0
PRODID:-//wp-events-plugin.com//7.2.3.1//EN
TZID:Europe/Paris
X-WR-TIMEZONE:Europe/Paris
BEGIN:VEVENT
UID:29@tiralarc17.fr
DTSTART;TZID=Europe/Paris:20230408T133000
DTEND;TZID=Europe/Paris:20230408T180000
DTSTAMP:20230310T205954Z
URL:https://www.tiralarc17.fr/evenements/rochefort-6/
SUMMARY:Rochefort
DESCRIPTION:MANDAT
ATTACH;FMTTYPE=image/jpeg:https://www.tiralarc17.fr/wp-content/uploads/202
 3/03/mandat-tournois-U11-13-rochefort-08_04_23_v2-1.jpg
CATEGORIES:Tournois U11/U13
LOCATION:Rochefort (club)\, 3 avenue de torrelavega\, ROCHEFORT\, 17300\, F
 rance
GEO:45.925361;-0.967323
X-APPLE-STRUCTURED-LOCATION;VALUE=URI;X-ADDRESS=3 avenue de torrelavega\, R
 OCHEFORT\, 17300\, France;X-APPLE-RADIUS=100;X-TITLE=Rochefort (club):geo:
 45.925361,-0.967323
END:VEVENT
BEGIN:VTIMEZONE
TZID:Europe/Paris
X-LIC-LOCATION:Europe/Paris
BEGIN:DAYLIGHT
DTSTART:20230326T030000
TZOFFSETFROM:+0100
TZOFFSETTO:+0200
TZNAME:CEST
END:DAYLIGHT
END:VTIMEZONE
END:VCALENDAR