BEGIN:VCALENDAR
VERSION:2.0
PRODID:-//wp-events-plugin.com//7.2.3.1//EN
TZID:Europe/Paris
X-WR-TIMEZONE:Europe/Paris
BEGIN:VEVENT
UID:80@tiralarc17.fr
DTSTART;TZID=Europe/Paris;VALUE=DATE:20240501
DTEND;TZID=Europe/Paris;VALUE=DATE:20240502
DTSTAMP:20240419T210456Z
URL:https://www.tiralarc17.fr/evenements/rochefort-12/
SUMMARY:Rochefort
DESCRIPTION:mandat-jeux-tir-a-l'arc
ATTACH;FMTTYPE=image/jpeg:https://www.tiralarc17.fr/wp-content/uploads/202
 4/04/mandat-jeux-tir-a-larc-rencontre_jeunes-01_05_24-1.jpg
CATEGORIES:Jeux tir à l'arc
LOCATION:Rochefort (club)\, 3 avenue de torrelavega\, ROCHEFORT\, 17300\, F
 rance
GEO:45.925361;-0.967323
X-APPLE-STRUCTURED-LOCATION;VALUE=URI;X-ADDRESS=3 avenue de torrelavega\, R
 OCHEFORT\, 17300\, France;X-APPLE-RADIUS=100;X-TITLE=Rochefort (club):geo:
 45.925361,-0.967323
END:VEVENT
BEGIN:VTIMEZONE
TZID:Europe/Paris
X-LIC-LOCATION:Europe/Paris
BEGIN:DAYLIGHT
DTSTART:20240331T030000
TZOFFSETFROM:+0100
TZOFFSETTO:+0200
TZNAME:CEST
END:DAYLIGHT
END:VTIMEZONE
END:VCALENDAR