BEGIN:VCALENDAR
VERSION:2.0
PRODID:-//wp-events-plugin.com//7.2.3.1//EN
TZID:Europe/Paris
X-WR-TIMEZONE:Europe/Paris
BEGIN:VEVENT
UID:69@tiralarc17.fr
DTSTART;TZID=Europe/Paris:20241005T140000
DTEND;TZID=Europe/Paris:20241005T170000
DTSTAMP:20240221T093436Z
URL:https://www.tiralarc17.fr/evenements/ag-elective-2024/
SUMMARY:AG élective 2024
DESCRIPTION:
CATEGORIES:Codir
END:VEVENT
BEGIN:VTIMEZONE
TZID:Europe/Paris
X-LIC-LOCATION:Europe/Paris
BEGIN:DAYLIGHT
DTSTART:20240331T030000
TZOFFSETFROM:+0100
TZOFFSETTO:+0200
TZNAME:CEST
END:DAYLIGHT
END:VTIMEZONE
END:VCALENDAR